BEGIN:VCALENDAR
VERSION:2.0
PRODID:-//Supnext - ECPv6.15.14//NONSGML v1.0//EN
CALSCALE:GREGORIAN
METHOD:PUBLISH
X-WR-CALNAME:Supnext
X-ORIGINAL-URL:https://supnext.com.ng
X-WR-CALDESC:Events for Supnext
REFRESH-INTERVAL;VALUE=DURATION:PT1H
X-Robots-Tag:noindex
X-PUBLISHED-TTL:PT1H
BEGIN:VTIMEZONE
TZID:Africa/Lagos
BEGIN:STANDARD
TZOFFSETFROM:+0100
TZOFFSETTO:+0100
TZNAME:WAT
DTSTART:20250101T000000
END:STANDARD
END:VTIMEZONE
BEGIN:VEVENT
DTSTART;TZID=Africa/Lagos:20260323T160000
DTEND;TZID=Africa/Lagos:20260323T213000
DTSTAMP:20260420T142025
CREATED:20260124T235430Z
LAST-MODIFIED:20260124T235430Z
UID:150-1774281600-1774301400@supnext.com.ng
SUMMARY:Lagos Sunset Live: Afro-Soul Night
DESCRIPTION:Lagos Sunset Live is an open-air Afro-Soul concert bringing together live bands\, spoken word\, and smooth DJ sets as the sun goes down. Expect live performances\, food vendors\, and a relaxed vibe perfect for music lovers.
URL:https://supnext.com.ng/event/lagos-sunset-live-afro-soul-night/
LOCATION:Freedom Park\, Broad Street\, Lagos Island\, Freedom Park\, Broad Street\, Lagos Island\, lagos\, 100001\, Nigeria
CATEGORIES:Music & Concerts
ATTACH;FMTTYPE=image/jpeg:https://supnext.com.ng/wp-content/uploads/2026/01/download.jpg
ORGANIZER;CN="Sunset Sounds Collective":MAILTO:sunsetsounds@gmail.com
END:VEVENT
END:VCALENDAR