BEGIN:VCALENDAR
VERSION:2.0
PRODID:-//Supnext - ECPv6.15.14//NONSGML v1.0//EN
CALSCALE:GREGORIAN
METHOD:PUBLISH
X-WR-CALNAME:Supnext
X-ORIGINAL-URL:https://supnext.com.ng
X-WR-CALDESC:Events for Supnext
REFRESH-INTERVAL;VALUE=DURATION:PT1H
X-Robots-Tag:noindex
X-PUBLISHED-TTL:PT1H
BEGIN:VTIMEZONE
TZID:Africa/Lagos
BEGIN:STANDARD
TZOFFSETFROM:+0100
TZOFFSETTO:+0100
TZNAME:WAT
DTSTART:20250101T000000
END:STANDARD
END:VTIMEZONE
BEGIN:VEVENT
DTSTART;TZID=Africa/Lagos:20260427T100000
DTEND;TZID=Africa/Lagos:20260427T180000
DTSTAMP:20260420T124904
CREATED:20260125T035552Z
LAST-MODIFIED:20260125T035552Z
UID:240-1777284000-1777312800@supnext.com.ng
SUMMARY:Street Five-A-Side Football Tournament
DESCRIPTION:A competitive five-a-side football tournament featuring local teams\, prizes\, and live commentary. Teams and spectators welcome. \n\n\n\nTicket: Free (Spectators) \n\n\nTeam Registration Fee: ₦15\,000 per team \n\n\nNumber of Teams: 16 \n\n\nExpected Attendees: 300–400
URL:https://supnext.com.ng/event/street-five-a-side-football-tournament/
LOCATION:Community Sports Arena\, Ajah\, Lagos\, Community Sports Arena\, Ajah\, Lagos\, lagos\, lagos state\, Nigeria
CATEGORIES:Sports & Games
ATTACH;FMTTYPE=image/jpeg:https://supnext.com.ng/wp-content/uploads/2026/01/download-8.jpg
END:VEVENT
END:VCALENDAR